BEGIN:VCALENDAR
VERSION:2.0
PRODID:-//Operations &amp; Facilities Management Department//NONSGML Events//EN
CALSCALE:GREGORIAN
X-ORIGINAL-URL:https://facilities.med.wustl.edu/events/
X-WR-CALDESC:Operations &amp; Facilities Management Department - Events
BEGIN:VEVENT
UID:20200130T1115Z-1580382902.5725-EO-27682-1@172.23.128.18
STATUS:CONFIRMED
DTSTAMP:20260419T101624Z
CREATED:20200130T105510Z
LAST-MODIFIED:20200130T105510Z
DTSTART;TZID=America/Chicago:20200206T080000
DTEND;TZID=America/Chicago:20200206T100000
SUMMARY: 4444 Forest Park Blvd – Elevator Service Interruption
DESCRIPTION: Elevator No 62 will be out of service on Thursday February 6th
  at 8 AM for two hours to test the new fire alarm system that interacts wit
 h this elevator. We thank you for your patience and understanding at this t
 ime.
X-ALT-DESC;FMTTYPE=text/html: <p>Elevator No 62 will be out of service on T
 hursday February 6th at 8 AM for two hours to test the new fire alarm syste
 m that interacts with this elevator.</p><p>We thank you for your patience a
 nd understanding at this time.</p>
CATEGORIES:Limited Notice Interruption
ORGANIZER;CN="Michelle":MAILTO:lewismichelle@wustl.edu
URL;VALUE=URI:https://facilities.med.wustl.edu/events/event/4444-forest-par
 k-blvd-elevator-service-interruption-10/
END:VEVENT
BEGIN:VTIMEZONE
TZID:America/Chicago
BEGIN:STANDARD
TZOFFSETFROM:-0500
TZOFFSETTO:-0600
DTSTART:20191103T070000
TZNAME:CST
END:STANDARD
END:VTIMEZONE
END:VCALENDAR
