BEGIN:VCALENDAR
VERSION:2.0
PRODID:-//Operations &amp; Facilities Management Department//NONSGML Events//EN
CALSCALE:GREGORIAN
X-ORIGINAL-URL:https://facilities.med.wustl.edu/events/
X-WR-CALDESC:Operations &amp; Facilities Management Department - Events
BEGIN:VEVENT
UID:20200217T0931Z-1581931872.7655-EO-28196-1@172.23.128.19
STATUS:CONFIRMED
DTSTAMP:20260419T125051Z
CREATED:20200217T092953Z
LAST-MODIFIED:20200217T092953Z
DTSTART;TZID=America/Chicago:20200307T070000
DTEND;TZID=America/Chicago:20200307T120000
SUMMARY: 4444 Forest Park Blvd – Elevator Service Interruption
DESCRIPTION: The alarm shop and the City of St. Louis will be testing the u
 pgraded alarm system installed in the building on Saturday March the 7th fr
 om 7 AM to 12 PM affecting the normal operation of the elevators. The Passe
 nger Elevators No 63\, 64\, 65 and 66 will be out of service for approximat
 ely 2 […]
X-ALT-DESC;FMTTYPE=text/html: <p>The alarm shop and the City of St. Louis w
 ill be testing the upgraded alarm system installed in the building on Satur
 day March the 7th from 7 AM to 12 PM affecting the normal operation of the 
 elevators. The Passenger Elevators No 63\, 64\, 65 and 66 will be out of se
 rvice for approximately 2 hours to perform the tests while Elevator No 62 w
 ill be available to the customers. Then\, the Service Elevator No 62 will b
 e out of service for about 2 hours whereas the Passenger Elevators will be 
 available.</p><p>We thank you for your patience and understanding at this t
 ime.</p>
CATEGORIES:Planned Service Interruption
ORGANIZER;CN="Michelle":MAILTO:lewismichelle@wustl.edu
URL;VALUE=URI:https://facilities.med.wustl.edu/events/event/4444-forest-par
 k-blvd-elevator-service-interruption-11/
END:VEVENT
BEGIN:VTIMEZONE
TZID:America/Chicago
BEGIN:STANDARD
TZOFFSETFROM:-0500
TZOFFSETTO:-0600
DTSTART:20191103T070000
TZNAME:CST
END:STANDARD
END:VTIMEZONE
END:VCALENDAR
