BEGIN:VCALENDAR
VERSION:2.0
PRODID:-//Operations &amp; Facilities Management Department//NONSGML Events//EN
CALSCALE:GREGORIAN
X-ORIGINAL-URL:https://facilities.med.wustl.edu/events/
X-WR-CALDESC:Operations &amp; Facilities Management Department - Events
BEGIN:VEVENT
UID:20200110T0909Z-1578647357.8623-EO-26914-1@172.23.128.18
STATUS:CONFIRMED
DTSTAMP:20260424T133822Z
CREATED:20200110T090754Z
LAST-MODIFIED:20200110T090754Z
DTSTART;TZID=America/Chicago:20200118T140000
DTEND;TZID=America/Chicago:20200118T143000
SUMMARY: 4444 Forest Park – Fire Alarm Service Interruption
DESCRIPTION: Due to construction we will be testing the Fire alarm system d
 uring above listed times. You will hear messages and see strobes you do not
  have to leave the building. We thank you for your patience and understandi
 ng at this time.
X-ALT-DESC;FMTTYPE=text/html: <p>Due to construction we will be testing the
  Fire alarm system during above listed times. You will hear messages and se
 e strobes you do not have to leave the building.</p><p>We thank you for you
 r patience and understanding at this time.</p>
CATEGORIES:Planned Service Interruption
ORGANIZER;CN="Michelle":MAILTO:lewismichelle@wustl.edu
URL;VALUE=URI:https://facilities.med.wustl.edu/events/event/4444-forest-par
 k-fire-alarm-service-interruption/
END:VEVENT
BEGIN:VTIMEZONE
TZID:America/Chicago
BEGIN:STANDARD
TZOFFSETFROM:-0500
TZOFFSETTO:-0600
DTSTART:20191103T070000
TZNAME:CST
END:STANDARD
END:VTIMEZONE
END:VCALENDAR
