BEGIN:VCALENDAR
VERSION:2.0
PRODID:-//Operations &amp; Facilities Management Department//NONSGML Events//EN
CALSCALE:GREGORIAN
X-ORIGINAL-URL:https://facilities.med.wustl.edu/events/
X-WR-CALDESC:Operations &amp; Facilities Management Department - Events
BEGIN:VEVENT
UID:20200303T1102Z-1583233350.0999-EO-28439-1@172.23.128.19
STATUS:CONFIRMED
DTSTAMP:20260420T145040Z
CREATED:20200303T104422Z
LAST-MODIFIED:20200309T083746Z
DTSTART;TZID=America/Chicago:20200228T080000
DTEND;TZID=America/Chicago:20200306T151000
SUMMARY: Bernard Becker Medical Library – Elevator Service Interruption
DESCRIPTION: Elevator 41 will be out of service until March 6 at 4:30 PM du
 e to a drive problem that needs to be addressed. The Elevator Mechanics are
  exchanging information with the manufacturer to better identify the issue.
  The part will be delivered on Thursday March 5 at 10:30 AM. The elevator m
 echanics need to continue […]
X-ALT-DESC;FMTTYPE=text/html: <p>Elevator 41 will be out of service until M
 arch 6 at 4:30 PM due to a drive problem that needs to be addressed. The El
 evator Mechanics are exchanging information with the manufacturer to better
  identify the issue. The part will be delivered on Thursday March 5 at 10:3
 0 AM. The elevator mechanics need to continue working on this elevator to c
 orrect malfunction issues.</p><p>We thank you for your patience and underst
 anding at this time.</p>
CATEGORIES:Limited Notice Interruption
ORGANIZER;CN="Michelle":MAILTO:lewismichelle@wustl.edu
URL;VALUE=URI:https://facilities.med.wustl.edu/events/event/bernard-becker-
 medical-library-elevator-service-interruption-4/
END:VEVENT
BEGIN:VTIMEZONE
TZID:America/Chicago
BEGIN:STANDARD
TZOFFSETFROM:-0500
TZOFFSETTO:-0600
DTSTART:20191103T070000
TZNAME:CST
END:STANDARD
END:VTIMEZONE
END:VCALENDAR
