BEGIN:VCALENDAR
VERSION:2.0
PRODID:-//Operations &amp; Facilities Management Department//NONSGML Events//EN
CALSCALE:GREGORIAN
X-ORIGINAL-URL:https://facilities.med.wustl.edu/events/
X-WR-CALDESC:Operations &amp; Facilities Management Department - Events
BEGIN:VEVENT
UID:20200313T1254Z-1584104052.9082-EO-28634-1@172.23.128.19
STATUS:CONFIRMED
DTSTAMP:20260420T170500Z
CREATED:20200313T124144Z
LAST-MODIFIED:20200313T124144Z
DTSTART;TZID=America/Chicago:20200313T080000
DTEND;TZID=America/Chicago:20200313T090000
SUMMARY: Biotechnology Center – Flooring Replacement
DESCRIPTION: CORRIDOR FLOORING AND PAINTING We will be updating the corrido
 rs starting on the 4th floor down through the ground floor. All work will b
 e complete after 6:00pm. There may be sometimes that you could be walking o
 n concrete with no tile. Thank you for your patience and understanding duri
 ng this construction. Schedule for flooring Replacement […]
X-ALT-DESC;FMTTYPE=text/html: <p>CORRIDOR FLOORING AND PAINTING<br />We wil
 l be updating the corridors starting on the 4th floor down through the grou
 nd floor. All work will be complete after 6:00pm. There may be sometimes th
 at you could be walking on concrete with no tile. Thank you for your patien
 ce and understanding during this construction.</p><p>Schedule for flooring 
 Replacement<br />3/16/20 - 3/20/20 Fourth Floor<br />3/23/20 - 3/27/20 Thir
 d Floor<br />3/30/20 - 4/3/20 Second Floor<br />4/6/20 - 4/10/20 First Floo
 r<br />4/13/20 - 4/17/20 Ground Floor</p><p>Painting will take place prior 
 to the flooring work being started.</p>
CATEGORIES:Planned Service Interruption
ORGANIZER;CN="Michelle":MAILTO:lewismichelle@wustl.edu
URL;VALUE=URI:https://facilities.med.wustl.edu/events/event/biotechnology-c
 enter-flooring-replacement/
END:VEVENT
BEGIN:VTIMEZONE
TZID:America/Chicago
BEGIN:DAYLIGHT
TZOFFSETFROM:-0600
TZOFFSETTO:-0500
DTSTART:20200308T080000
TZNAME:CDT
END:DAYLIGHT
END:VTIMEZONE
END:VCALENDAR
