BEGIN:VCALENDAR
VERSION:2.0
PRODID:-//Operations &amp; Facilities Management Department//NONSGML Events//EN
CALSCALE:GREGORIAN
X-ORIGINAL-URL:https://facilities.med.wustl.edu/events/
X-WR-CALDESC:Operations &amp; Facilities Management Department - Events
BEGIN:VEVENT
UID:20191101T1453Z-1572619983.5559-EO-26098-1@172.23.128.19
STATUS:CONFIRMED
DTSTAMP:20260424T022053Z
CREATED:20191101T145244Z
LAST-MODIFIED:20191105T212232Z
DTSTART;TZID=America/Chicago:20191029T080000
DTEND;TZID=America/Chicago:20191106T163000
SUMMARY: Cancer Research Building – Elevator Service Interruption
DESCRIPTION: Elevator No 33 will be out of service until Monday November th
 e 4th at 4:30 PM due to a damaged PC Board [relay power supply board] which
  will be repaired and delivered back in the morning of November the 4th. We
  thank you for your patience and understanding at this time.
X-ALT-DESC;FMTTYPE=text/html: <p>Elevator No 33 will be out of service unti
 l Monday November the 4th at 4:30 PM due to a damaged PC Board [relay power
  supply board] which will be repaired and delivered back in the morning of 
 November the 4th.</p><p>We thank you for your patience and understanding at
  this time.</p>
CATEGORIES:Limited Notice Interruption
ORGANIZER;CN="Michelle":MAILTO:lewismichelle@wustl.edu
URL;VALUE=URI:https://facilities.med.wustl.edu/events/event/cancer-research
 -building-elevator-service-interruption-5/
END:VEVENT
BEGIN:VTIMEZONE
TZID:America/Chicago
BEGIN:DAYLIGHT
TZOFFSETFROM:-0600
TZOFFSETTO:-0500
DTSTART:20190310T080000
TZNAME:CDT
END:DAYLIGHT
END:VTIMEZONE
END:VCALENDAR
