BEGIN:VCALENDAR
VERSION:2.0
PRODID:-//Operations &amp; Facilities Management Department//NONSGML Events//EN
CALSCALE:GREGORIAN
X-ORIGINAL-URL:https://facilities.med.wustl.edu/events/
X-WR-CALDESC:Operations &amp; Facilities Management Department - Events
BEGIN:VEVENT
UID:20191219T2253Z-1576795986.0612-EO-26665-1@172.23.128.19
STATUS:CONFIRMED
DTSTAMP:20260424T133731Z
CREATED:20191219T222415Z
LAST-MODIFIED:20191219T222415Z
DTSTART;TZID=America/Chicago:20191223T070000
DTEND;TZID=America/Chicago:20191223T080000
SUMMARY: Cancer Research Building – Elevator Service Interruption
DESCRIPTION: Elevator No 33 will be down for one hour so the Contractor who
  is doing the modernization of this elevator can take measurements in the p
 it and the top of the car. We thank you for your patience and understanding
  at this time.  
X-ALT-DESC;FMTTYPE=text/html: <p>Elevator No 33 will be down for one hour s
 o the Contractor who is doing the modernization of this elevator can take m
 easurements in the pit and the top of the car.</p><p>We thank you for your 
 patience and understanding at this time.</p><p> </p>
CATEGORIES:Limited Notice Interruption
ORGANIZER;CN="Michelle":MAILTO:lewismichelle@wustl.edu
URL;VALUE=URI:https://facilities.med.wustl.edu/events/event/cancer-research
 -building-elevator-service-interruption-6/
END:VEVENT
BEGIN:VTIMEZONE
TZID:America/Chicago
BEGIN:STANDARD
TZOFFSETFROM:-0500
TZOFFSETTO:-0600
DTSTART:20191103T070000
TZNAME:CST
END:STANDARD
END:VTIMEZONE
END:VCALENDAR
