BEGIN:VCALENDAR
VERSION:2.0
PRODID:-//Operations &amp; Facilities Management Department//NONSGML Events//EN
CALSCALE:GREGORIAN
X-ORIGINAL-URL:https://facilities.med.wustl.edu/events/
X-WR-CALDESC:Operations &amp; Facilities Management Department - Events
BEGIN:VEVENT
UID:20200303T1102Z-1583233350.1321-EO-28442-1@172.23.128.19
STATUS:CONFIRMED
DTSTAMP:20260423T202019Z
CREATED:20200303T104553Z
LAST-MODIFIED:20200303T104553Z
DTSTART;TZID=America/Chicago:20200323T070000
DTEND;TZID=America/Chicago:20200717T153000
SUMMARY: Cancer Research Building – Elevator Service Interruption
DESCRIPTION: Elevator 31 will be out of service from March 23rd to July 17t
 h to modernize and upgrade mechanical and electrical components. During thi
 s time Elevators 32 and 34 from the North and the South buildings can be us
 ed to access the Cancer Research Building. We thank you for your patience a
 nd understanding at this time.
X-ALT-DESC;FMTTYPE=text/html: <p>Elevator 31 will be out of service from Ma
 rch 23rd to July 17th to modernize and upgrade mechanical and electrical co
 mponents. During this time Elevators 32 and 34 from the North and the South
  buildings can be used to access the Cancer Research Building.</p><p>We tha
 nk you for your patience and understanding at this time.</p>
CATEGORIES:Planned Service Interruption
ORGANIZER;CN="Michelle":MAILTO:lewismichelle@wustl.edu
URL;VALUE=URI:https://facilities.med.wustl.edu/events/event/cancer-research
 -building-elevator-service-interruption-7/
END:VEVENT
BEGIN:VTIMEZONE
TZID:America/Chicago
BEGIN:DAYLIGHT
TZOFFSETFROM:-0600
TZOFFSETTO:-0500
DTSTART:20200308T080000
TZNAME:CDT
END:DAYLIGHT
END:VTIMEZONE
END:VCALENDAR
