BEGIN:VCALENDAR
VERSION:2.0
PRODID:-//Operations &amp; Facilities Management Department//NONSGML Events//EN
CALSCALE:GREGORIAN
X-ORIGINAL-URL:https://facilities.med.wustl.edu/events/
X-WR-CALDESC:Operations &amp; Facilities Management Department - Events
BEGIN:VEVENT
UID:20210205T1830Z-1612549816.1458-EO-31936-1@172.23.128.18
STATUS:CONFIRMED
DTSTAMP:20260424T110705Z
CREATED:20210205T181143Z
LAST-MODIFIED:20210205T181143Z
DTSTART;TZID=America/Chicago:20210207T080000
DTEND;TZID=America/Chicago:20210207T160000
SUMMARY: Clayton Garage – Electric Service Interruption
DESCRIPTION: Due to construction we will be shutting down power to Clayton 
 garage. The generator will run and all parking equipment will be operationa
 l\, lighting will be down 2/3 and only one elevator will run. We thank you 
 for your patience and understanding at this time.
X-ALT-DESC;FMTTYPE=text/html: <p>Due to construction we will be shutting do
 wn power to Clayton garage. The generator will run and all parking equipmen
 t will be operational\, lighting will be down 2/3 and only one elevator wil
 l run.</p><p>We thank you for your patience and understanding at this time.
 </p>
CATEGORIES:Limited Notice Interruption
ORGANIZER;CN="Michelle":MAILTO:lewismichelle@wustl.edu
URL;VALUE=URI:https://facilities.med.wustl.edu/events/event/clayton-garage-
 electric-service-interruption/
END:VEVENT
BEGIN:VTIMEZONE
TZID:America/Chicago
BEGIN:STANDARD
TZOFFSETFROM:-0500
TZOFFSETTO:-0600
DTSTART:20201101T070000
TZNAME:CST
END:STANDARD
END:VTIMEZONE
END:VCALENDAR
