BEGIN:VCALENDAR
VERSION:2.0
PRODID:-//Operations &amp; Facilities Management Department//NONSGML Events//EN
CALSCALE:GREGORIAN
X-ORIGINAL-URL:https://facilities.med.wustl.edu/events/
X-WR-CALDESC:Operations &amp; Facilities Management Department - Events
BEGIN:VEVENT
UID:20191002T1401Z-1570024862.5884-EO-25402-1@172.23.128.19
STATUS:CONFIRMED
DTSTAMP:20260421T124656Z
CREATED:20191002T134617Z
LAST-MODIFIED:20191002T134617Z
DTSTART;TZID=America/Chicago:20191016T060000
DTEND;TZID=America/Chicago:20191016T080000
SUMMARY: Clinical Sciences Research Building – Heating Service Interruption
DESCRIPTION: To support renovations there will be no heating available to t
 he 8th floor during the above noted times. We thank you for your patience a
 nd understanding at this time.
X-ALT-DESC;FMTTYPE=text/html: <p>To support renovations there will be no he
 ating available to the 8th floor during the above noted times.</p><p>We tha
 nk you for your patience and understanding at this time.</p>
ORGANIZER;CN="Michelle":MAILTO:lewismichelle@wustl.edu
URL;VALUE=URI:https://facilities.med.wustl.edu/events/event/clinical-scienc
 es-research-building-heating-service-interruption-4/
END:VEVENT
BEGIN:VTIMEZONE
TZID:America/Chicago
BEGIN:DAYLIGHT
TZOFFSETFROM:-0600
TZOFFSETTO:-0500
DTSTART:20190310T080000
TZNAME:CDT
END:DAYLIGHT
END:VTIMEZONE
END:VCALENDAR
