BEGIN:VCALENDAR
VERSION:2.0
PRODID:-//Operations &amp; Facilities Management Department//NONSGML Events//EN
CALSCALE:GREGORIAN
X-ORIGINAL-URL:https://facilities.med.wustl.edu/events/
X-WR-CALDESC:Operations &amp; Facilities Management Department - Events
BEGIN:VEVENT
UID:20191024T2019Z-1571948386.4643-EO-25945-1@172.23.128.19
STATUS:CONFIRMED
DTSTAMP:20260423T110025Z
CREATED:20191024T201345Z
LAST-MODIFIED:20191024T201345Z
DTSTART;TZID=America/Chicago:20191101T010000
DTEND;TZID=America/Chicago:20191101T060000
SUMMARY: Clinical Sciences Research Building – Heating Service Interruption
DESCRIPTION: Due to construction\, we will be shutting down building heat t
 o the 8th floor during above listed times. We thank you for your patience a
 nd understanding at this time.
X-ALT-DESC;FMTTYPE=text/html: <p>Due to construction\, we will be shutting 
 down building heat to the 8th floor during above listed times.</p><p>We tha
 nk you for your patience and understanding at this time.</p>
CATEGORIES:Planned Service Interruption
ORGANIZER;CN="Michelle":MAILTO:lewismichelle@wustl.edu
URL;VALUE=URI:https://facilities.med.wustl.edu/events/event/clinical-scienc
 es-research-building-heating-service-interruption-5/
END:VEVENT
BEGIN:VTIMEZONE
TZID:America/Chicago
BEGIN:DAYLIGHT
TZOFFSETFROM:-0600
TZOFFSETTO:-0500
DTSTART:20190310T080000
TZNAME:CDT
END:DAYLIGHT
END:VTIMEZONE
END:VCALENDAR
