BEGIN:VCALENDAR
VERSION:2.0
PRODID:-//Operations &amp; Facilities Management Department//NONSGML Events//EN
CALSCALE:GREGORIAN
X-ORIGINAL-URL:https://facilities.med.wustl.edu/events/
X-WR-CALDESC:Operations &amp; Facilities Management Department - Events
BEGIN:VEVENT
UID:20191101T1724Z-1572629041.8364-EO-26101-1@172.23.128.19
STATUS:CONFIRMED
DTSTAMP:20260422T133551Z
CREATED:20191101T171020Z
LAST-MODIFIED:20191101T171020Z
DTSTART;TZID=America/Chicago:20191116T070000
DTEND;TZID=America/Chicago:20191116T153000
SUMMARY: Clinical Sciences Research Building – Heating Service Interruption
DESCRIPTION: To support HVAC upgrades there will be no heat available to th
 e south end of floors 3\,4\,5\,and 6 during the above noted times. We thank
  you for your patience and understanding at this time.
X-ALT-DESC;FMTTYPE=text/html: <p>To support HVAC upgrades there will be no 
 heat available to the south end of floors 3\,4\,5\,and 6 during the above n
 oted times.</p><p>We thank you for your patience and understanding at this 
 time.</p>
CATEGORIES:Planned Service Interruption
ORGANIZER;CN="Michelle":MAILTO:lewismichelle@wustl.edu
URL;VALUE=URI:https://facilities.med.wustl.edu/events/event/clinical-scienc
 es-research-building-heating-service-interruption-6/
END:VEVENT
BEGIN:VTIMEZONE
TZID:America/Chicago
BEGIN:STANDARD
TZOFFSETFROM:-0500
TZOFFSETTO:-0600
DTSTART:20191103T070000
TZNAME:CST
END:STANDARD
END:VTIMEZONE
END:VCALENDAR
