BEGIN:VCALENDAR
VERSION:2.0
PRODID:-//Operations &amp; Facilities Management Department//NONSGML Events//EN
CALSCALE:GREGORIAN
X-ORIGINAL-URL:https://facilities.med.wustl.edu/events/
X-WR-CALDESC:Operations &amp; Facilities Management Department - Events
BEGIN:VEVENT
UID:20191106T1954Z-1573070079.8144-EO-26176-1@172.23.128.19
STATUS:CONFIRMED
DTSTAMP:20260421T114408Z
CREATED:20191106T194507Z
LAST-MODIFIED:20191106T194507Z
DTSTART;TZID=America/Chicago:20191109T030000
DTEND;TZID=America/Chicago:20191109T120000
SUMMARY: Clinical Sciences Research Building – Heating Service Interruption
DESCRIPTION: To make repairs to the heating system there will be no heat av
 ailable to the 10th floor during the above noted times. We thank you for yo
 ur patience and understanding at this time.
X-ALT-DESC;FMTTYPE=text/html: <p>To make repairs to the heating system ther
 e will be no heat available to the 10th floor during the above noted times.
 </p><p>We thank you for your patience and understanding at this time.</p>
CATEGORIES:Planned Service Interruption
ORGANIZER;CN="Michelle":MAILTO:lewismichelle@wustl.edu
URL;VALUE=URI:https://facilities.med.wustl.edu/events/event/clinical-scienc
 es-research-building-heating-service-interruption-7/
END:VEVENT
BEGIN:VTIMEZONE
TZID:America/Chicago
BEGIN:STANDARD
TZOFFSETFROM:-0500
TZOFFSETTO:-0600
DTSTART:20191103T070000
TZNAME:CST
END:STANDARD
END:VTIMEZONE
END:VCALENDAR
