BEGIN:VCALENDAR
VERSION:2.0
PRODID:-//Operations &amp; Facilities Management Department//NONSGML Events//EN
CALSCALE:GREGORIAN
X-ORIGINAL-URL:https://facilities.med.wustl.edu/events/
X-WR-CALDESC:Operations &amp; Facilities Management Department - Events
BEGIN:VEVENT
UID:20191218T2236Z-1576708595.3288-EO-26641-1@172.23.128.19
STATUS:CONFIRMED
DTSTAMP:20260421T123736Z
CREATED:20191218T222233Z
LAST-MODIFIED:20191218T222233Z
DTSTART;TZID=America/Chicago:20191221T050000
DTEND;TZID=America/Chicago:20191221T160000
SUMMARY: Clinical Sciences Research Building – Heating Service Interruption
DESCRIPTION: To support 10th floor renovation there will be reduced heating
  to the 10th floor during the above noted times. Technicians will be on-sit
 e to monitor room temperature throughout the duration of the outage. We tha
 nk you for your patience and understanding at this time.
X-ALT-DESC;FMTTYPE=text/html: <p>To support 10th floor renovation there wil
 l be reduced heating to the 10th floor during the above noted times. Techni
 cians will be on-site to monitor room temperature throughout the duration o
 f the outage.</p><p>We thank you for your patience and understanding at thi
 s time.</p>
CATEGORIES:Planned Service Interruption
ORGANIZER;CN="Michelle":MAILTO:lewismichelle@wustl.edu
URL;VALUE=URI:https://facilities.med.wustl.edu/events/event/clinical-scienc
 es-research-building-heating-service-interruption-8/
END:VEVENT
BEGIN:VTIMEZONE
TZID:America/Chicago
BEGIN:STANDARD
TZOFFSETFROM:-0500
TZOFFSETTO:-0600
DTSTART:20191103T070000
TZNAME:CST
END:STANDARD
END:VTIMEZONE
END:VCALENDAR
