BEGIN:VCALENDAR
VERSION:2.0
PRODID:-//Operations &amp; Facilities Management Department//NONSGML Events//EN
CALSCALE:GREGORIAN
X-ORIGINAL-URL:https://facilities.med.wustl.edu/events/
X-WR-CALDESC:Operations &amp; Facilities Management Department - Events
BEGIN:VEVENT
UID:20191002T1401Z-1570024862.5921-EO-25405-1@172.23.128.19
STATUS:CONFIRMED
DTSTAMP:20260421T220931Z
CREATED:20191002T134941Z
LAST-MODIFIED:20191002T134941Z
DTSTART;TZID=America/Chicago:20191018T220000
DTEND;TZID=America/Chicago:20191022T060000
SUMMARY: Clinical Sciences Research Building – Utilities Service Interrupti
 on
DESCRIPTION: To support 3rd and 6th floor renovation there will need to be 
 multiple utility shutdowns conducted nightly between the above dates. Below
  is the list of utilities and there scheduled outage dates DI Water to 3rd 
 floor- 10/18 10 pm – 6 am Exhaust to 3rd floor – 10/18 10 pm- 6 am Exhaust 
 to […]
X-ALT-DESC;FMTTYPE=text/html: <p>To support 3rd and 6th floor renovation th
 ere will need to be multiple utility shutdowns conducted nightly between th
 e above dates. Below is the list of utilities and there scheduled outage da
 tes<br />DI Water to 3rd floor- 10/18 10 pm - 6 am<br />Exhaust to 3rd floo
 r - 10/18 10 pm- 6 am<br />Exhaust to 6th floor- 10/18 10 pm- 6 am<br />Hea
 ting hot water 3rd floor 10/18- 10-22 nightly 10 pm - 6 am<br />Chilled wat
 er 3rd floor 10/18- 10-22 nightly 10 pm - 6 am</p><p>We thank you for your 
 patience and understanding at this time.</p>
ORGANIZER;CN="Michelle":MAILTO:lewismichelle@wustl.edu
URL;VALUE=URI:https://facilities.med.wustl.edu/events/event/clinical-scienc
 es-research-building-utilities-service-interruption/
END:VEVENT
BEGIN:VTIMEZONE
TZID:America/Chicago
BEGIN:DAYLIGHT
TZOFFSETFROM:-0600
TZOFFSETTO:-0500
DTSTART:20190310T080000
TZNAME:CDT
END:DAYLIGHT
END:VTIMEZONE
END:VCALENDAR
