BEGIN:VCALENDAR
VERSION:2.0
PRODID:-//Operations &amp; Facilities Management Department//NONSGML Events//EN
CALSCALE:GREGORIAN
X-ORIGINAL-URL:https://facilities.med.wustl.edu/events/
X-WR-CALDESC:Operations &amp; Facilities Management Department - Events
BEGIN:VEVENT
UID:20191101T1724Z-1572629041.8225-EO-26107-1@172.23.128.19
STATUS:CONFIRMED
DTSTAMP:20260421T161151Z
CREATED:20191101T171353Z
LAST-MODIFIED:20191101T181431Z
DTSTART;TZID=America/Chicago:20191101T110000
DTEND;TZID=America/Chicago:20191101T150000
SUMMARY: Clinical Sciences Research Building – Vacuum System Service Interr
 uption
DESCRIPTION: The building lab vacuum system has experienced a failure due t
 o an electrical issue with the equipment. Facilities Engineering is in the 
 process of recovering this system. UPDATE:  The building Lab Vacuum System 
 and all building Air Handler Units have been restored to normal operating c
 ondition.  The 6th Floor center corridor lighting is still out […]
X-ALT-DESC;FMTTYPE=text/html: <p>The building lab vacuum system has experie
 nced a failure due to an electrical issue with the equipment. Facilities En
 gineering is in the process of recovering this system.</p><p><strong>UPDATE
 :  The building Lab Vacuum System and all building Air Handler Units have b
 een restored to normal operating condition.  The 6<sup>th</sup> Floor cente
 r corridor lighting is still out of service at this time.  Facilities Engin
 eering electricians are in the process of restoring the lighting to this ar
 ea.</strong></p><p>We thank you for your patience and understanding at this
  time.</p>
CATEGORIES:Limited Notice Interruption
ORGANIZER;CN="Michelle":MAILTO:lewismichelle@wustl.edu
URL;VALUE=URI:https://facilities.med.wustl.edu/events/event/clinical-scienc
 es-research-building-vacuum-system-service-interruption/
END:VEVENT
BEGIN:VTIMEZONE
TZID:America/Chicago
BEGIN:DAYLIGHT
TZOFFSETFROM:-0600
TZOFFSETTO:-0500
DTSTART:20190310T080000
TZNAME:CDT
END:DAYLIGHT
END:VTIMEZONE
END:VCALENDAR
