BEGIN:VCALENDAR
VERSION:2.0
PRODID:-//Operations &amp; Facilities Management Department//NONSGML Events//EN
CALSCALE:GREGORIAN
X-ORIGINAL-URL:https://facilities.med.wustl.edu/events/
X-WR-CALDESC:Operations &amp; Facilities Management Department - Events
BEGIN:VEVENT
UID:20240326T1639Z-1711471164.5852-EO-62226-1@172.23.128.18
STATUS:CONFIRMED
DTSTAMP:20260424T133738Z
CREATED:20240326T162129Z
LAST-MODIFIED:20240326T162129Z
DTSTART;TZID=America/Chicago:20240415T000000
DTEND;TZID=America/Chicago:20240426T230000
SUMMARY: Commuter Challenge- April 2024
DESCRIPTION: Join us for the April 2024 Commuter Challenge! This campus-wid
 e challenge celebrates\, supports and encourages the use of sustainable tra
 nsportation at WashU. It runs from April 15 – 26\, 2024 and is part of Apri
 l’s Active Transportation Month. Eligible forms of commute include: biking\
 , carpooling\, vanpooling (med campus only)\, taking public transit or shut
 tles\, and walking. Winners will […]
X-ALT-DESC;FMTTYPE=text/html: <p>Join us for the April 2024 Commuter Challe
 nge! This campus-wide challenge celebrates\, supports and encourages the us
 e of sustainable transportation at WashU. <strong>It runs from April 15 – 2
 6\, 2024</strong> and is part of April’s Active Transportation Month. Eligi
 ble forms of commute include: biking\, carpooling\, vanpooling (med campus 
 only)\, taking public transit or shuttles\, and walking.</p><p>Winners will
  be selected based on the number of trips logged in <a href="https://parkin
 g.wustl.edu/items/washurides/">WashU Rides</a> as well as raffles for all p
 articipants who log at least 8 trips (that’s two roundtrips per week). The 
 challenge will be tracked separately for the Medical Campus and the Danfort
 h/North/West Campus.</p><p><strong>Prizes</strong><br />First prize winner*
 : $100 gift card<br />Second prize winner*: $50 gift card<br />Two $50 raff
 les for participants who log at least 8 trips during the challenge<br />Add
 itional raffle prizes<br /><em>WUSM prizes</em> <em>will be announced soon<
 /em><br />All participants who log at least 4 trips may request a free Bicy
 cle Benefits sticker</p><p><em>*In the event of multiple winners\, a raffle
  will be held to determine prize winner.</em></p><p><strong>How to particip
 ate</strong><br />Go to <a href="https://rides.wustl.edu/#/">WashU Rides</a
 >\, sign in using your WUSTL Key\, tap Programs\, then “GO” under Challenge
 s.</p>
CATEGORIES:Events,Sustainability Events
ORGANIZER;CN="Erin":MAILTO:erink@wustl.edu
URL;VALUE=URI:https://facilities.med.wustl.edu/events/event/commuter-challe
 nge-april-2024/
END:VEVENT
BEGIN:VTIMEZONE
TZID:America/Chicago
BEGIN:DAYLIGHT
TZOFFSETFROM:-0600
TZOFFSETTO:-0500
DTSTART:20240310T080000
TZNAME:CDT
END:DAYLIGHT
END:VTIMEZONE
END:VCALENDAR
