BEGIN:VCALENDAR
VERSION:2.0
PRODID:-//Operations &amp; Facilities Management Department//NONSGML Events//EN
CALSCALE:GREGORIAN
X-ORIGINAL-URL:https://facilities.med.wustl.edu/events/
X-WR-CALDESC:Operations &amp; Facilities Management Department - Events
BEGIN:VEVENT
UID:20191002T1831Z-1570041062.8701-EO-25426-1@172.23.128.19
STATUS:CONFIRMED
DTSTAMP:20260424T133844Z
CREATED:20191002T182515Z
LAST-MODIFIED:20191002T182515Z
DTSTART;TZID=America/Chicago:20191003T060000
DTEND;TZID=America/Chicago:20191003T070000
SUMMARY: CSRB North Tower Addition –
DESCRIPTION: Work needs to be completed on the strobe light adjacent to NTA
  431. No work will be allowed in NTA 431/441 during this outage. We thank y
 ou for your patience and understanding at this time.
X-ALT-DESC;FMTTYPE=text/html: <p>Work needs to be completed on the strobe l
 ight adjacent to NTA 431. No work will be allowed in NTA 431/441 during thi
 s outage.</p><p>We thank you for your patience and understanding at this ti
 me.</p>
ORGANIZER;CN="Michelle":MAILTO:lewismichelle@wustl.edu
URL;VALUE=URI:https://facilities.med.wustl.edu/events/event/csrb-north-towe
 r-addition-7/
END:VEVENT
BEGIN:VTIMEZONE
TZID:America/Chicago
BEGIN:DAYLIGHT
TZOFFSETFROM:-0600
TZOFFSETTO:-0500
DTSTART:20190310T080000
TZNAME:CDT
END:DAYLIGHT
END:VTIMEZONE
END:VCALENDAR
