BEGIN:VCALENDAR
VERSION:2.0
PRODID:-//Operations &amp; Facilities Management Department//NONSGML Events//EN
CALSCALE:GREGORIAN
X-ORIGINAL-URL:https://facilities.med.wustl.edu/events/
X-WR-CALDESC:Operations &amp; Facilities Management Department - Events
BEGIN:VEVENT
UID:20200107T0947Z-1578390454.6167-EO-26806-1@172.23.128.18
STATUS:CONFIRMED
DTSTAMP:20260424T133730Z
CREATED:20200107T093529Z
LAST-MODIFIED:20200107T093529Z
DTSTART;TZID=America/Chicago:20200118T030000
DTEND;TZID=America/Chicago:20200118T070000
SUMMARY: CSRB North Tower Addition – HVAC Service Interruption
DESCRIPTION: The purpose of this outage is to upgrade the operating system 
 firmware on the Johnson Controls Network Automation Engines that serve the 
 4th floor A/BSL3 facilities. During this outage there is a potential of the
  HVAC systems that support the A/BSL3 facilities to shut down. No work is t
 o take place within any of the […]
X-ALT-DESC;FMTTYPE=text/html: <p>The purpose of this outage is to upgrade t
 he operating system firmware on the Johnson Controls Network Automation Eng
 ines that serve the 4th floor A/BSL3 facilities. During this outage there i
 s a potential of the HVAC systems that support the A/BSL3 facilities to shu
 t down. No work is to take place within any of the A/BSL3 facilities.</p><p
 >We thank you for your patience and understanding at this time.</p>
CATEGORIES:Planned Service Interruption
ORGANIZER;CN="Michelle":MAILTO:lewismichelle@wustl.edu
URL;VALUE=URI:https://facilities.med.wustl.edu/events/event/csrb-north-towe
 r-addition-hvac-service-interruption/
END:VEVENT
BEGIN:VTIMEZONE
TZID:America/Chicago
BEGIN:STANDARD
TZOFFSETFROM:-0500
TZOFFSETTO:-0600
DTSTART:20191103T070000
TZNAME:CST
END:STANDARD
END:VTIMEZONE
END:VCALENDAR
