BEGIN:VCALENDAR
VERSION:2.0
PRODID:-//Operations &amp; Facilities Management Department//NONSGML Events//EN
CALSCALE:GREGORIAN
X-ORIGINAL-URL:https://facilities.med.wustl.edu/events/
X-WR-CALDESC:Operations &amp; Facilities Management Department - Events
BEGIN:VEVENT
UID:20200220T1454Z-1582210492.2787-EO-28265-1@172.23.128.18
STATUS:CONFIRMED
DTSTAMP:20260424T090820Z
CREATED:20200220T114012Z
LAST-MODIFIED:20200220T114012Z
DTSTART;TZID=America/Chicago:20200221T050000
DTEND;TZID=America/Chicago:20200221T070000
SUMMARY: CSRB North Tower Addition – Water Service Interruption
DESCRIPTION: In support of the 4th floor ABSL3 renovation project\, there w
 ill be no water available in the 4th floor ABSL3 area during this outage. N
 O work will be allowed in the 4th floor during this outage. We thank you fo
 r your patience and understanding at this time.
X-ALT-DESC;FMTTYPE=text/html: <p>In support of the 4th floor ABSL3 renovati
 on project\, there will be no water available in the 4th floor ABSL3 area d
 uring this outage. NO work will be allowed in the 4th floor during this out
 age.</p><p>We thank you for your patience and understanding at this time.</
 p>
CATEGORIES:Limited Notice Interruption
ORGANIZER;CN="Michelle":MAILTO:lewismichelle@wustl.edu
URL;VALUE=URI:https://facilities.med.wustl.edu/events/event/csrb-north-towe
 r-addition-water-service-interruption/
END:VEVENT
BEGIN:VTIMEZONE
TZID:America/Chicago
BEGIN:STANDARD
TZOFFSETFROM:-0500
TZOFFSETTO:-0600
DTSTART:20191103T070000
TZNAME:CST
END:STANDARD
END:VTIMEZONE
END:VCALENDAR
