BEGIN:VCALENDAR
VERSION:2.0
PRODID:-//Operations &amp; Facilities Management Department//NONSGML Events//EN
CALSCALE:GREGORIAN
X-ORIGINAL-URL:https://facilities.med.wustl.edu/events/
X-WR-CALDESC:Operations &amp; Facilities Management Department - Events
BEGIN:VEVENT
UID:20191009T1558Z-1570636730.7334-EO-25498-1@172.23.128.18
STATUS:CONFIRMED
DTSTAMP:20260422T023356Z
CREATED:20191009T154711Z
LAST-MODIFIED:20191009T154711Z
DTSTART;TZID=America/Chicago:20191007T080000
DTEND;TZID=America/Chicago:20191025T163000
SUMMARY: East McDonnell Facility – Elevator Service Interruption
DESCRIPTION: Elevator No 55 will be out of service until October the 25th a
 t 4:30 PM. The Elevator requires a controller conversion kit to replace the
  current troubleshooting device to put the elevator back in service. FO is 
 diligently working with the Supplier\, Northern Elevators\, to acquire this
  conversion kit to solve this issue. We thank […]
X-ALT-DESC;FMTTYPE=text/html: <p>Elevator No 55 will be out of service unti
 l October the 25th at 4:30 PM. The Elevator requires a controller conversio
 n kit to replace the current troubleshooting device to put the elevator bac
 k in service. FO is diligently working with the Supplier\, Northern Elevato
 rs\, to acquire this conversion kit to solve this issue.</p><p>We thank you
  for your patience and understanding at this time.</p>
CATEGORIES:Limited Notice Interruption
ORGANIZER;CN="Michelle":MAILTO:lewismichelle@wustl.edu
URL;VALUE=URI:https://facilities.med.wustl.edu/events/event/east-mcdonnell-
 facility-elevator-service-interruption-5/
END:VEVENT
BEGIN:VTIMEZONE
TZID:America/Chicago
BEGIN:DAYLIGHT
TZOFFSETFROM:-0600
TZOFFSETTO:-0500
DTSTART:20190310T080000
TZNAME:CDT
END:DAYLIGHT
END:VTIMEZONE
END:VCALENDAR
