BEGIN:VCALENDAR
VERSION:2.0
PRODID:-//Operations &amp; Facilities Management Department//NONSGML Events//EN
CALSCALE:GREGORIAN
X-ORIGINAL-URL:https://facilities.med.wustl.edu/events/
X-WR-CALDESC:Operations &amp; Facilities Management Department - Events
BEGIN:VEVENT
UID:20200228T1722Z-1582910571.5314-EO-28403-1@172.23.128.19
STATUS:CONFIRMED
DTSTAMP:20260422T144501Z
CREATED:20200228T165905Z
LAST-MODIFIED:20200228T165905Z
DTSTART;TZID=America/Chicago:20200302T070000
DTEND;TZID=America/Chicago:20200302T100000
SUMMARY: Eric P Newman Education Center – Elevator Service Interruption
DESCRIPTION: Escalators in this building will be out of service for 3 hours
  on March 2 to conduct annual inspections as required by the Elevator Safet
 y Unit of the Missouri Department of Public Safety. We thank you for your p
 atience and understanding at this time.
X-ALT-DESC;FMTTYPE=text/html: <p>Escalators in this building will be out of
  service for 3 hours on March 2 to conduct annual inspections as required b
 y the Elevator Safety Unit of the Missouri Department of Public Safety.</p>
 <p>We thank you for your patience and understanding at this time.</p>
CATEGORIES:Limited Notice Interruption
ORGANIZER;CN="Michelle":MAILTO:lewismichelle@wustl.edu
URL;VALUE=URI:https://facilities.med.wustl.edu/events/event/eric-p-newman-e
 ducation-center-elevator-service-interruption-2/
END:VEVENT
BEGIN:VTIMEZONE
TZID:America/Chicago
BEGIN:STANDARD
TZOFFSETFROM:-0500
TZOFFSETTO:-0600
DTSTART:20191103T070000
TZNAME:CST
END:STANDARD
END:VTIMEZONE
END:VCALENDAR
