BEGIN:VCALENDAR
VERSION:2.0
PRODID:-//Operations &amp; Facilities Management Department//NONSGML Events//EN
CALSCALE:GREGORIAN
X-ORIGINAL-URL:https://facilities.med.wustl.edu/events/
X-WR-CALDESC:Operations &amp; Facilities Management Department - Events
BEGIN:VEVENT
UID:20210205T1810Z-1612548604.0281-EO-31924-1@172.23.128.18
STATUS:CONFIRMED
DTSTAMP:20260423T111124Z
CREATED:20210205T180456Z
LAST-MODIFIED:20210205T180531Z
DTSTART;TZID=America/Chicago:20210217T060000
DTEND;TZID=America/Chicago:20210217T083000
SUMMARY: Eric P Newman Education Center – Elevator Service Interruption
DESCRIPTION: Escalator 70 coming down will be out of service on Wednesday F
 ebruary 17 from 6:00 to 8:30 am to perform the annual inspection as require
 d by the Elevator Safety Unit of the Missouri Department of Public Safety. 
 We thank you for your patience and understanding at this time.
X-ALT-DESC;FMTTYPE=text/html: <p>Escalator 70 coming down will be out of se
 rvice on Wednesday February 17 from 6:00 to 8:30 am to perform the annual i
 nspection as required by the Elevator Safety Unit of the Missouri Departmen
 t of Public Safety.</p><p>We thank you for your patience and understanding 
 at this time.</p>
CATEGORIES:Limited Notice Interruption
ORGANIZER;CN="Michelle":MAILTO:lewismichelle@wustl.edu
URL;VALUE=URI:https://facilities.med.wustl.edu/events/event/eric-p-newman-e
 ducation-center-elevator-service-interruption-3/
END:VEVENT
BEGIN:VTIMEZONE
TZID:America/Chicago
BEGIN:STANDARD
TZOFFSETFROM:-0500
TZOFFSETTO:-0600
DTSTART:20201101T070000
TZNAME:CST
END:STANDARD
END:VTIMEZONE
END:VCALENDAR
