BEGIN:VCALENDAR
VERSION:2.0
PRODID:-//Operations &amp; Facilities Management Department//NONSGML Events//EN
CALSCALE:GREGORIAN
X-ORIGINAL-URL:https://facilities.med.wustl.edu/events/
X-WR-CALDESC:Operations &amp; Facilities Management Department - Events
BEGIN:VEVENT
UID:20240111T2019Z-1705004371.7528-EO-60808-1@172.23.128.18
STATUS:CONFIRMED
DTSTAMP:20260424T133740Z
CREATED:20240111T162845Z
LAST-MODIFIED:20240111T162845Z
DTSTART;TZID=America/Chicago:20240201T100000
DTEND;TZID=America/Chicago:20240201T140000
SUMMARY: Farmers Market
X-ALT-DESC;FMTTYPE=text/html: 
CATEGORIES:Sustainability Events
ORGANIZER;CN="Erin":MAILTO:erink@wustl.edu
URL;VALUE=URI:https://facilities.med.wustl.edu/events/event/farmers-market/
END:VEVENT
BEGIN:VTIMEZONE
TZID:America/Chicago
BEGIN:STANDARD
TZOFFSETFROM:-0500
TZOFFSETTO:-0600
DTSTART:20231105T070000
TZNAME:CST
END:STANDARD
END:VTIMEZONE
END:VCALENDAR
