BEGIN:VCALENDAR
VERSION:2.0
PRODID:-//Operations &amp; Facilities Management Department//NONSGML Events//EN
CALSCALE:GREGORIAN
X-ORIGINAL-URL:https://facilities.med.wustl.edu/events/
X-WR-CALDESC:Operations &amp; Facilities Management Department - Events
BEGIN:VEVENT
UID:20200210T0937Z-1581327444.9845-EO-28025-1@172.23.128.18
STATUS:CONFIRMED
DTSTAMP:20260421T223222Z
CREATED:20200210T093041Z
LAST-MODIFIED:20200210T093041Z
DTSTART;TZID=America/Chicago:20200220T190000
DTEND;TZID=America/Chicago:20200222T040000
SUMMARY: Farrell Learning & Teaching Center – Air Handling Unit Service Int
 erruption
DESCRIPTION: In order to provide maintenance and clean the air handlers\, t
 hey will be taken out of service intermittently during the below listed tim
 es. This will affect 1st – 6th floor of FLTC\, there will be reduced heatin
 g and cooling. The schedule is as follows: Thursday\, February 20th @ 7 pm 
 to Friday the 21st @ […]
X-ALT-DESC;FMTTYPE=text/html: <p>In order to provide maintenance and clean 
 the air handlers\, they will be taken out of service intermittently during 
 the below listed times. This will affect 1st - 6th floor of FLTC\, there wi
 ll be reduced heating and cooling. The schedule is as follows:</p><p>Thursd
 ay\, February 20th @ 7 pm to Friday the 21st @ 4 am<br />Friday\, February 
 21st @ 7 pm to Saturday the 22nd @ 4 am</p><p>We thank you for your patienc
 e and understanding at this time.</p>
CATEGORIES:Planned Service Interruption
ORGANIZER;CN="Michelle":MAILTO:lewismichelle@wustl.edu
URL;VALUE=URI:https://facilities.med.wustl.edu/events/event/farrell-learnin
 g-teaching-center-air-handling-unit-service-interruption-4/
END:VEVENT
BEGIN:VTIMEZONE
TZID:America/Chicago
BEGIN:STANDARD
TZOFFSETFROM:-0500
TZOFFSETTO:-0600
DTSTART:20191103T070000
TZNAME:CST
END:STANDARD
END:VTIMEZONE
END:VCALENDAR
