BEGIN:VCALENDAR
VERSION:2.0
PRODID:-//Operations &amp; Facilities Management Department//NONSGML Events//EN
CALSCALE:GREGORIAN
X-ORIGINAL-URL:https://facilities.med.wustl.edu/events/
X-WR-CALDESC:Operations &amp; Facilities Management Department - Events
BEGIN:VEVENT
UID:20191111T1952Z-1573501949.8198-EO-26236-1@172.23.128.18
STATUS:CONFIRMED
DTSTAMP:20260419T211806Z
CREATED:20191111T193124Z
LAST-MODIFIED:20191111T193138Z
DTSTART;TZID=America/Chicago:20191126T060000
DTEND;TZID=America/Chicago:20191126T160000
SUMMARY: Maternity Hospital – Elevator Service Interruption
DESCRIPTION: Elevator No 25 will be out of service on November the 26th fro
 m 6 AM to install a security card reader in the elevator cab. The elevator 
 will return to service by 4 PM on the same day. We thank you for your patie
 nce and understanding at this time.
X-ALT-DESC;FMTTYPE=text/html: <p>Elevator No 25 will be out of service on N
 ovember the 26th from 6 AM to install a security card reader in the elevato
 r cab. The elevator will return to service by 4 PM on the same day.</p><p>W
 e thank you for your patience and understanding at this time.</p>
CATEGORIES:Planned Service Interruption
ORGANIZER;CN="Michelle":MAILTO:lewismichelle@wustl.edu
URL;VALUE=URI:https://facilities.med.wustl.edu/events/event/maternity-hospi
 tal-elevator-service-interruption-3/
END:VEVENT
BEGIN:VTIMEZONE
TZID:America/Chicago
BEGIN:STANDARD
TZOFFSETFROM:-0500
TZOFFSETTO:-0600
DTSTART:20191103T070000
TZNAME:CST
END:STANDARD
END:VTIMEZONE
END:VCALENDAR
