BEGIN:VCALENDAR
VERSION:2.0
PRODID:-//Operations &amp; Facilities Management Department//NONSGML Events//EN
CALSCALE:GREGORIAN
X-ORIGINAL-URL:https://facilities.med.wustl.edu/events/
X-WR-CALDESC:Operations &amp; Facilities Management Department - Events
BEGIN:VEVENT
UID:20190910T1527Z-1568129220.4512-EO-24916-1@172.23.128.19
STATUS:CONFIRMED
DTSTAMP:20260424T133752Z
CREATED:20190910T152228Z
LAST-MODIFIED:20190910T152228Z
DTSTART;TZID=America/Chicago:20190914T050000
DTEND;TZID=America/Chicago:20190914T170000
SUMMARY: Maternity Hospital – Heating Service Interruption
DESCRIPTION: To make repairs there will be reduced heat available to the bu
 ilding during the above noted times. We thank you for your patience and und
 erstanding at this time.
X-ALT-DESC;FMTTYPE=text/html: <p>To make repairs there will be reduced heat
  available to the building during the above noted times.</p><p>We thank you
  for your patience and understanding at this time.</p>
CATEGORIES:Planned Service Interruption
ORGANIZER;CN="Michelle":MAILTO:lewismichelle@wustl.edu
URL;VALUE=URI:https://facilities.med.wustl.edu/events/event/maternity-hospi
 tal-heating-service-interruption/
END:VEVENT
BEGIN:VTIMEZONE
TZID:America/Chicago
BEGIN:DAYLIGHT
TZOFFSETFROM:-0600
TZOFFSETTO:-0500
DTSTART:20190310T080000
TZNAME:CDT
END:DAYLIGHT
END:VTIMEZONE
END:VCALENDAR
