BEGIN:VCALENDAR
VERSION:2.0
PRODID:-//Operations &amp; Facilities Management Department//NONSGML Events//EN
CALSCALE:GREGORIAN
X-ORIGINAL-URL:https://facilities.med.wustl.edu/events/
X-WR-CALDESC:Operations &amp; Facilities Management Department - Events
BEGIN:VEVENT
UID:20200326T2019Z-1585253962.2079-EO-29069-1@172.23.128.18
STATUS:CONFIRMED
DTSTAMP:20260424T113110Z
CREATED:20200326T201723Z
LAST-MODIFIED:20200326T201723Z
DTSTART;TZID=America/Chicago:20200410T073000
DTEND;TZID=America/Chicago:20200412T033000
SUMMARY: McDonnell Medical Sciences Building – McDonnell Science Loading Do
 ck Service Interruption
DESCRIPTION: On April 10th at 7:30 AM\, there will be no access to the McDo
 nnell Science loading dock to reestablish the north sidewalk of the buildin
 g. The contractor will remove the steel plates to back fill the 50-foot tre
 nch and pour concrete to complete the sidewalk restoration. This work will 
 be completed by 3:30 PM on […]
X-ALT-DESC;FMTTYPE=text/html: <p>On April 10th at 7:30 AM\, there will be n
 o access to the McDonnell Science loading dock to reestablish the north sid
 ewalk of the building. The contractor will remove the steel plates to back 
 fill the 50-foot trench and pour concrete to complete the sidewalk restorat
 ion. This work will be completed by 3:30 PM on Sunday April 12th when the a
 ccess to the loading dock will be resumed.</p><p>We thank you for your pati
 ence and understanding at this time.</p>
CATEGORIES:Planned Service Interruption
ORGANIZER;CN="Michelle":MAILTO:lewismichelle@wustl.edu
URL;VALUE=URI:https://facilities.med.wustl.edu/events/event/mcdonnell-medic
 al-sciences-building-mcdonnell-science-loading-dock-service-interruption-2/
END:VEVENT
BEGIN:VTIMEZONE
TZID:America/Chicago
BEGIN:DAYLIGHT
TZOFFSETFROM:-0600
TZOFFSETTO:-0500
DTSTART:20200308T080000
TZNAME:CDT
END:DAYLIGHT
END:VTIMEZONE
END:VCALENDAR
