BEGIN:VCALENDAR
VERSION:2.0
PRODID:-//Operations &amp; Facilities Management Department//NONSGML Events//EN
CALSCALE:GREGORIAN
X-ORIGINAL-URL:https://facilities.med.wustl.edu/events/
X-WR-CALDESC:Operations &amp; Facilities Management Department - Events
BEGIN:VEVENT
UID:20200326T2016Z-1585253778.0263-EO-29066-1@172.23.128.18
STATUS:CONFIRMED
DTSTAMP:20260423T124011Z
CREATED:20200326T201402Z
LAST-MODIFIED:20200326T201402Z
DTSTART;TZID=America/Chicago:20200403T073000
DTEND;TZID=America/Chicago:20200405T153000
SUMMARY: McDonnell Medical Sciences Building – McDonnell Science loading do
 ck Service Interruption
DESCRIPTION: On April 3rd at 7:30 AM\, there will be no access to the McDon
 nell Science loading dock due to the replacement of the steam pipe insulati
 on that runs under the north sidewalk of the building. The contractor will 
 perform excavation activities to expose the 50-foot long steam pipe to repl
 ace the insulation. This work will […]
X-ALT-DESC;FMTTYPE=text/html: <p>On April 3rd at 7:30 AM\, there will be no
  access to the McDonnell Science loading dock due to the replacement of the
  steam pipe insulation that runs under the north sidewalk of the building. 
 The contractor will perform excavation activities to expose the 50-foot lon
 g steam pipe to replace the insulation. This work will be completed by 3:30
  PM on Sunday\, April 5th when the access to the loading dock will be resum
 ed.</p><p>Another outage will be required on April 10th to back fill the tr
 ench and pour the concrete to restore the sidewalk.</p><p>We thank you for 
 your patience and understanding at this time.</p>
CATEGORIES:Limited Notice Interruption
ORGANIZER;CN="Michelle":MAILTO:lewismichelle@wustl.edu
URL;VALUE=URI:https://facilities.med.wustl.edu/events/event/mcdonnell-medic
 al-sciences-building-mcdonnell-science-loading-dock-service-interruption/
END:VEVENT
BEGIN:VTIMEZONE
TZID:America/Chicago
BEGIN:DAYLIGHT
TZOFFSETFROM:-0600
TZOFFSETTO:-0500
DTSTART:20200308T080000
TZNAME:CDT
END:DAYLIGHT
END:VTIMEZONE
END:VCALENDAR
