BEGIN:VCALENDAR
VERSION:2.0
PRODID:-//Operations &amp; Facilities Management Department//NONSGML Events//EN
CALSCALE:GREGORIAN
X-ORIGINAL-URL:https://facilities.med.wustl.edu/events/
X-WR-CALDESC:Operations &amp; Facilities Management Department - Events
BEGIN:VEVENT
UID:20190926T1906Z-1569524801.7424-EO-25240-1@172.23.128.19
STATUS:CONFIRMED
DTSTAMP:20260424T133747Z
CREATED:20190926T185418Z
LAST-MODIFIED:20190926T185418Z
DTSTART;TZID=America/Chicago:20191009T020000
DTEND;TZID=America/Chicago:20191010T060000
SUMMARY: McDonnell Medical Sciences Building – Utilities Service Interrupti
 on
DESCRIPTION: In order to support renovations to the 3rd floor McDonnell Sci
 ence\, certain building utilities will be unavailable during the above list
 ed times. This outage will affect lab gas\, lab air\, lab vacuum\, D.I. wat
 er building wide. This work will take place during 2 four hour shifts as fo
 llows: Wednesday 10/9\, 2am-6am Thursday 10/10\, 2am-6am We […]
X-ALT-DESC;FMTTYPE=text/html: <p>In order to support renovations to the 3rd
  floor McDonnell Science\, certain building utilities will be unavailable d
 uring the above listed times. This outage will affect lab gas\, lab air\, l
 ab vacuum\, D.I. water building wide. This work will take place during 2 fo
 ur hour shifts as follows:</p><p>Wednesday 10/9\, 2am-6am<br />Thursday 10/
 10\, 2am-6am</p><p>We thank you for your patience and understanding at this
  time.</p>
CATEGORIES:Planned Service Interruption
ORGANIZER;CN="Michelle":MAILTO:lewismichelle@wustl.edu
URL;VALUE=URI:https://facilities.med.wustl.edu/events/event/mcdonnell-medic
 al-sciences-building-utilities-service-interruption/
END:VEVENT
BEGIN:VTIMEZONE
TZID:America/Chicago
BEGIN:DAYLIGHT
TZOFFSETFROM:-0600
TZOFFSETTO:-0500
DTSTART:20190310T080000
TZNAME:CDT
END:DAYLIGHT
END:VTIMEZONE
END:VCALENDAR
