BEGIN:VCALENDAR
VERSION:2.0
PRODID:-//Operations &amp; Facilities Management Department//NONSGML Events//EN
CALSCALE:GREGORIAN
X-ORIGINAL-URL:https://facilities.med.wustl.edu/events/
X-WR-CALDESC:Operations &amp; Facilities Management Department - Events
BEGIN:VEVENT
UID:20200327T1541Z-1585323670.9264-EO-29075-1@172.23.128.19
STATUS:CONFIRMED
DTSTAMP:20260422T024123Z
CREATED:20200327T153915Z
LAST-MODIFIED:20200327T153915Z
DTSTART;TZID=America/Chicago:20200327T044500
DTEND;TZID=America/Chicago:20200327T060500
SUMMARY: McDonnell Pediatric Research Building – Johnson Controls Network E
 ngine Service Interruption
DESCRIPTION: At approximately 4:25 a.m. there was a communication issue wit
 h the Johnson Controls Network Engine that supports the Philips BSL3 lab. T
 he local HVAC system has been confirmed to be operating and the room pressu
 res are negative at this time\, however until the communication issue can b
 e resolved NO WORK should take place within the […]
X-ALT-DESC;FMTTYPE=text/html: <p>At approximately 4:25 a.m. there was a com
 munication issue with the Johnson Controls Network Engine that supports the
  Philips BSL3 lab. The local HVAC system has been confirmed to be operating
  and the room pressures are negative at this time\, however until the commu
 nication issue can be resolved NO WORK should take place within the facilit
 y until Facilities Engineering has resolved the issue. A follow-up message 
 will be delivered once all mechanical systems and room pressures are workin
 g in a normal manner.</p><p>As of 6:05 AM all HVAC systems have returned to
  normal operation and all A/BSL3 or BSL3 alarms have returned to normal. Al
 l activities may resume in the affected areas.</p><p>We thank you for your 
 patience and understanding at this time.</p>
CATEGORIES:Limited Notice Interruption
ORGANIZER;CN="Michelle":MAILTO:lewismichelle@wustl.edu
URL;VALUE=URI:https://facilities.med.wustl.edu/events/event/mcdonnell-pedia
 tric-research-building-johnson-controls-network-engine-service-interruption
 /
END:VEVENT
BEGIN:VTIMEZONE
TZID:America/Chicago
BEGIN:DAYLIGHT
TZOFFSETFROM:-0600
TZOFFSETTO:-0500
DTSTART:20200308T080000
TZNAME:CDT
END:DAYLIGHT
END:VTIMEZONE
END:VCALENDAR
