BEGIN:VCALENDAR
VERSION:2.0
PRODID:-//Operations &amp; Facilities Management Department//NONSGML Events//EN
CALSCALE:GREGORIAN
X-ORIGINAL-URL:https://facilities.med.wustl.edu/events/
X-WR-CALDESC:Operations &amp; Facilities Management Department - Events
BEGIN:VEVENT
UID:20190905T1956Z-1567713412.0365-EO-24844-1@172.23.128.19
STATUS:CONFIRMED
DTSTAMP:20260424T214008Z
CREATED:20190905T194859Z
LAST-MODIFIED:20190905T194859Z
DTSTART;TZID=America/Chicago:20190915T070000
DTEND;TZID=America/Chicago:20190915T110000
SUMMARY: McMillan Hospital – Electrical Service Interruption
DESCRIPTION: The purpose of this outage is to perform maintenance on the el
 ectrical system. This will affect receptacles and lighting through out most
  of the 9th\, 10th\, 11th\, 12th and 13th floors. These floors will be with
 out power for the duration of the outage. There will not be any generator b
 ack up power available. NO work […]
X-ALT-DESC;FMTTYPE=text/html: <p>The purpose of this outage is to perform m
 aintenance on the electrical system. This will affect receptacles and light
 ing through out most of the 9th\, 10th\, 11th\, 12th and 13th floors. These
  floors will be without power for the duration of the outage. There will no
 t be any generator back up power available. NO work shall be conducted in t
 he 1103 BSL3 suite during this time</p><p>We thank you for your patience an
 d understanding at this time.</p>
CATEGORIES:Planned Service Interruption
ORGANIZER;CN="Michelle":MAILTO:lewismichelle@wustl.edu
URL;VALUE=URI:https://facilities.med.wustl.edu/events/event/mcmillan-hospit
 al-electrical-service-interruption/
END:VEVENT
BEGIN:VTIMEZONE
TZID:America/Chicago
BEGIN:DAYLIGHT
TZOFFSETFROM:-0600
TZOFFSETTO:-0500
DTSTART:20190310T080000
TZNAME:CDT
END:DAYLIGHT
END:VTIMEZONE
END:VCALENDAR
