BEGIN:VCALENDAR
VERSION:2.0
PRODID:-//Operations &amp; Facilities Management Department//NONSGML Events//EN
CALSCALE:GREGORIAN
X-ORIGINAL-URL:https://facilities.med.wustl.edu/events/
X-WR-CALDESC:Operations &amp; Facilities Management Department - Events
BEGIN:VEVENT
UID:20191009T1558Z-1570636730.7675-EO-25504-1@172.23.128.18
STATUS:CONFIRMED
DTSTAMP:20260422T060254Z
CREATED:20191009T154946Z
LAST-MODIFIED:20191009T154946Z
DTSTART;TZID=America/Chicago:20191016T070000
DTEND;TZID=America/Chicago:20191016T110000
SUMMARY: Mid Campus Center – Elevator Service Interruption
DESCRIPTION: Elevators 137 and 138 will be out of service for 2 to 4 hours 
 between 07:00 AM to 11:00 AM on October the 16th to conduct annual inspecti
 ons and fire alarm tests as required by the Elevator Safety Unit of the Mis
 souri Department of Public Safety. We thank you for your patience and under
 standing at […]
X-ALT-DESC;FMTTYPE=text/html: <p>Elevators 137 and 138 will be out of servi
 ce for 2 to 4 hours between 07:00 AM to 11:00 AM on October the 16th to con
 duct annual inspections and fire alarm tests as required by the Elevator Sa
 fety Unit of the Missouri Department of Public Safety.</p><p>We thank you f
 or your patience and understanding at this time.</p>
CATEGORIES:Limited Notice Interruption
ORGANIZER;CN="Michelle":MAILTO:lewismichelle@wustl.edu
URL;VALUE=URI:https://facilities.med.wustl.edu/events/event/mid-campus-cent
 er-elevator-service-interruption-13/
END:VEVENT
BEGIN:VTIMEZONE
TZID:America/Chicago
BEGIN:DAYLIGHT
TZOFFSETFROM:-0600
TZOFFSETTO:-0500
DTSTART:20190310T080000
TZNAME:CDT
END:DAYLIGHT
END:VTIMEZONE
END:VCALENDAR
