BEGIN:VCALENDAR
VERSION:2.0
PRODID:-//Operations &amp; Facilities Management Department//NONSGML Events//EN
CALSCALE:GREGORIAN
X-ORIGINAL-URL:https://facilities.med.wustl.edu/events/
X-WR-CALDESC:Operations &amp; Facilities Management Department - Events
BEGIN:VEVENT
UID:20191009T1558Z-1570636730.7714-EO-25507-1@172.23.128.18
STATUS:CONFIRMED
DTSTAMP:20260421T103854Z
CREATED:20191009T155109Z
LAST-MODIFIED:20191009T155109Z
DTSTART;TZID=America/Chicago:20191016T113000
DTEND;TZID=America/Chicago:20191016T153000
SUMMARY: Mid Campus Center – Elevator Service Interruption
DESCRIPTION: Elevators 135 and 136 will be out of service for 2 to 4 hours 
 between 11:30 AM to 3:30 PM on October the 16th to conduct annual inspectio
 ns and fire alarm tests as required by the Elevator Safety Unit of the Miss
 ouri Department of Public Safety. We thank you for your patience and unders
 tanding at […]
X-ALT-DESC;FMTTYPE=text/html: <p>Elevators 135 and 136 will be out of servi
 ce for 2 to 4 hours between 11:30 AM to 3:30 PM on October the 16th to cond
 uct annual inspections and fire alarm tests as required by the Elevator Saf
 ety Unit of the Missouri Department of Public Safety.</p><p>We thank you fo
 r your patience and understanding at this time.</p>
CATEGORIES:Limited Notice Interruption
ORGANIZER;CN="Michelle":MAILTO:lewismichelle@wustl.edu
URL;VALUE=URI:https://facilities.med.wustl.edu/events/event/mid-campus-cent
 er-elevator-service-interruption-14/
END:VEVENT
BEGIN:VTIMEZONE
TZID:America/Chicago
BEGIN:DAYLIGHT
TZOFFSETFROM:-0600
TZOFFSETTO:-0500
DTSTART:20190310T080000
TZNAME:CDT
END:DAYLIGHT
END:VTIMEZONE
END:VCALENDAR
