BEGIN:VCALENDAR
VERSION:2.0
PRODID:-//Operations &amp; Facilities Management Department//NONSGML Events//EN
CALSCALE:GREGORIAN
X-ORIGINAL-URL:https://facilities.med.wustl.edu/events/
X-WR-CALDESC:Operations &amp; Facilities Management Department - Events
BEGIN:VEVENT
UID:20191009T1558Z-1570636730.776-EO-25510-1@172.23.128.18
STATUS:CONFIRMED
DTSTAMP:20260422T075755Z
CREATED:20191009T155233Z
LAST-MODIFIED:20191009T155233Z
DTSTART;TZID=America/Chicago:20191017T083000
DTEND;TZID=America/Chicago:20191017T123000
SUMMARY: Mid Campus Center – Elevator Service Interruption
DESCRIPTION: Elevator 139 will be out of service for 2 to 4 hours between 0
 8:30 AM to 12:30 PM on October the 17th to conduct annual inspections and f
 ire alarm tests as required by the Elevator Safety Unit of the Missouri Dep
 artment of Public Safety. We thank you for your patience and understanding 
 at this time.
X-ALT-DESC;FMTTYPE=text/html: <p>Elevator 139 will be out of service for 2 
 to 4 hours between 08:30 AM to 12:30 PM on October the 17th to conduct annu
 al inspections and fire alarm tests as required by the Elevator Safety Unit
  of the Missouri Department of Public Safety.</p><p>We thank you for your p
 atience and understanding at this time.</p>
CATEGORIES:Limited Notice Interruption
ORGANIZER;CN="Michelle":MAILTO:lewismichelle@wustl.edu
URL;VALUE=URI:https://facilities.med.wustl.edu/events/event/mid-campus-cent
 er-elevator-service-interruption-15/
END:VEVENT
BEGIN:VTIMEZONE
TZID:America/Chicago
BEGIN:DAYLIGHT
TZOFFSETFROM:-0600
TZOFFSETTO:-0500
DTSTART:20190310T080000
TZNAME:CDT
END:DAYLIGHT
END:VTIMEZONE
END:VCALENDAR
