BEGIN:VCALENDAR
VERSION:2.0
PRODID:-//Operations &amp; Facilities Management Department//NONSGML Events//EN
CALSCALE:GREGORIAN
X-ORIGINAL-URL:https://facilities.med.wustl.edu/events/
X-WR-CALDESC:Operations &amp; Facilities Management Department - Events
BEGIN:VEVENT
UID:20240311T2034Z-1710189253.1239-EO-62014-1@172.23.128.18
STATUS:CONFIRMED
DTSTAMP:20260422T172454Z
CREATED:20240311T202408Z
LAST-MODIFIED:20240326T162643Z
DTSTART;TZID=America/Chicago:20240403T150000
DTEND;TZID=America/Chicago:20240403T160000
SUMMARY: New Hire Experience Part 2: Team
X-ALT-DESC;FMTTYPE=text/html: 
CATEGORIES:Events,Trainings
LOCATION:Erlanger Active Learning Room
GEO:0.000000;0.000000
ORGANIZER;CN="Erin":MAILTO:erink@wustl.edu
URL;VALUE=URI:https://facilities.med.wustl.edu/events/event/new-hire-experi
 ence-part-2-team/
END:VEVENT
BEGIN:VTIMEZONE
TZID:America/Chicago
BEGIN:DAYLIGHT
TZOFFSETFROM:-0600
TZOFFSETTO:-0500
DTSTART:20240310T080000
TZNAME:CDT
END:DAYLIGHT
END:VTIMEZONE
END:VCALENDAR
