BEGIN:VCALENDAR
VERSION:2.0
PRODID:-//Operations &amp; Facilities Management Department//NONSGML Events//EN
CALSCALE:GREGORIAN
X-ORIGINAL-URL:https://facilities.med.wustl.edu/events/
X-WR-CALDESC:Operations &amp; Facilities Management Department - Events
BEGIN:VEVENT
UID:20190830T1751Z-1567187494.9863-EO-24754-1@172.23.128.19
STATUS:CONFIRMED
DTSTAMP:20260424T133841Z
CREATED:20190830T174924Z
LAST-MODIFIED:20190830T174924Z
DTSTART;TZID=America/Chicago:20190909T180000
DTEND;TZID=America/Chicago:20190918T070000
SUMMARY: Northwest Tower – Air Handling Unit Service Interruption
DESCRIPTION: To preform preventive maintenance there will be intermittent l
 oss of supply air to the 11th floor nightly between the dates noted above. 
 Work will began no earlier than 6 pm and be completed by 6 am the following
  morning. Contractors will be working inside offices on the HVAC system as 
 well as in hallways. We […]
X-ALT-DESC;FMTTYPE=text/html: <p>To preform preventive maintenance there wi
 ll be intermittent loss of supply air to the 11th floor nightly between the
  dates noted above. Work will began no earlier than 6 pm and be completed b
 y 6 am the following morning. Contractors will be working inside offices on
  the HVAC system as well as in hallways.</p><p>We thank you for your patien
 ce and understanding at this time.</p>
CATEGORIES:Planned Service Interruption
ORGANIZER;CN="Michelle":MAILTO:lewismichelle@wustl.edu
URL;VALUE=URI:https://facilities.med.wustl.edu/events/event/northwest-tower
 -air-handling-unit-service-interruption-2/
END:VEVENT
BEGIN:VTIMEZONE
TZID:America/Chicago
BEGIN:DAYLIGHT
TZOFFSETFROM:-0600
TZOFFSETTO:-0500
DTSTART:20190310T080000
TZNAME:CDT
END:DAYLIGHT
END:VTIMEZONE
END:VCALENDAR
