BEGIN:VCALENDAR
VERSION:2.0
PRODID:-//Operations &amp; Facilities Management Department//NONSGML Events//EN
CALSCALE:GREGORIAN
X-ORIGINAL-URL:https://facilities.med.wustl.edu/events/
X-WR-CALDESC:Operations &amp; Facilities Management Department - Events
BEGIN:VEVENT
UID:20200323T1123Z-1584962633.4987-EO-28868-1@172.23.128.18
STATUS:CONFIRMED
DTSTAMP:20260424T133816Z
CREATED:20200323T112137Z
LAST-MODIFIED:20200323T112137Z
DTSTART;TZID=America/Chicago:20200323T180000
DTEND;TZID=America/Chicago:20200331T060000
SUMMARY: Northwest Tower – Air Supply Service Interruption
DESCRIPTION: To continue air duct cleaning there will reduced or no supply 
 air available to floors 8-11 each night between the hours of 6 pm and 6 am 
 during the above noted dates. We thank you for your patience and understand
 ing at this time.
X-ALT-DESC;FMTTYPE=text/html: <p>To continue air duct cleaning there will r
 educed or no supply air available to floors 8-11 each night between the hou
 rs of 6 pm and 6 am during the above noted dates.</p><p>We thank you for yo
 ur patience and understanding at this time.</p>
CATEGORIES:Planned Service Interruption
ORGANIZER;CN="Michelle":MAILTO:lewismichelle@wustl.edu
URL;VALUE=URI:https://facilities.med.wustl.edu/events/event/northwest-tower
 -air-supply-service-interruption/
END:VEVENT
BEGIN:VTIMEZONE
TZID:America/Chicago
BEGIN:DAYLIGHT
TZOFFSETFROM:-0600
TZOFFSETTO:-0500
DTSTART:20200308T080000
TZNAME:CDT
END:DAYLIGHT
END:VTIMEZONE
END:VCALENDAR
