BEGIN:VCALENDAR
VERSION:2.0
PRODID:-//Operations &amp; Facilities Management Department//NONSGML Events//EN
CALSCALE:GREGORIAN
X-ORIGINAL-URL:https://facilities.med.wustl.edu/events/
X-WR-CALDESC:Operations &amp; Facilities Management Department - Events
BEGIN:VEVENT
UID:20240311T2019Z-1710188365.8276-EO-62012-1@172.23.128.18
STATUS:CONFIRMED
DTSTAMP:20260424T115348Z
CREATED:20240311T201754Z
LAST-MODIFIED:20240311T201952Z
DTSTART;TZID=America/Chicago:20240327T073000
DTEND;TZID=America/Chicago:20240327T093000
SUMMARY: OFMD Blood Pressure Screening
X-ALT-DESC;FMTTYPE=text/html: 
CATEGORIES:Events
LOCATION:FLTC 201
GEO:0.000000;0.000000
ORGANIZER;CN="Erin":MAILTO:erink@wustl.edu
URL;VALUE=URI:https://facilities.med.wustl.edu/events/event/ofmd-blood-pres
 sure-screening-3/
END:VEVENT
BEGIN:VTIMEZONE
TZID:America/Chicago
BEGIN:DAYLIGHT
TZOFFSETFROM:-0600
TZOFFSETTO:-0500
DTSTART:20240310T080000
TZNAME:CDT
END:DAYLIGHT
END:VTIMEZONE
END:VCALENDAR
