BEGIN:VCALENDAR
VERSION:2.0
PRODID:-//Operations &amp; Facilities Management Department//NONSGML Events//EN
CALSCALE:GREGORIAN
X-ORIGINAL-URL:https://facilities.med.wustl.edu/events/
X-WR-CALDESC:Operations &amp; Facilities Management Department - Events
BEGIN:VEVENT
UID:20240223T0033Z-1708648417.9616-EO-61539-1@172.23.128.18
STATUS:CONFIRMED
DTSTAMP:20260421T134454Z
CREATED:20240223T003145Z
LAST-MODIFIED:20240223T003145Z
DTSTART;VALUE=DATE:20240226
DTEND;VALUE=DATE:20240302
SUMMARY: OFMD Employee Appreciation Week
DESCRIPTION: Monday- Wear crazy socks Tuesday- Wear your half-zip and join 
 us for a department photo on the couch lawn. Wednesday- Wear Cardinals gear
  Thursday- Team potluck Friday- Donate to wear jeans
X-ALT-DESC;FMTTYPE=text/html: <p>Monday- Wear crazy socks<br />Tuesday- Wea
 r your half-zip and join us for a department photo on the couch lawn.<br />
 Wednesday- Wear Cardinals gear<br />Thursday- Team potluck<br />Friday- Don
 ate to wear jeans</p>
CATEGORIES:Events
ORGANIZER;CN="Erin":MAILTO:erink@wustl.edu
URL;VALUE=URI:https://facilities.med.wustl.edu/events/event/ofmd-employee-a
 ppreciation-week/
END:VEVENT
BEGIN:VTIMEZONE
TZID:America/Chicago
BEGIN:STANDARD
TZOFFSETFROM:-0500
TZOFFSETTO:-0600
DTSTART:20231105T070000
TZNAME:CST
END:STANDARD
END:VTIMEZONE
END:VCALENDAR
