BEGIN:VCALENDAR
VERSION:2.0
PRODID:-//Operations &amp; Facilities Management Department//NONSGML Events//EN
CALSCALE:GREGORIAN
X-ORIGINAL-URL:https://facilities.med.wustl.edu/events/
X-WR-CALDESC:Operations &amp; Facilities Management Department - Events
BEGIN:VEVENT
UID:20240223T0033Z-1708648417.9867-EO-61537-1@172.23.128.18
STATUS:CONFIRMED
DTSTAMP:20260424T131538Z
CREATED:20240223T002338Z
LAST-MODIFIED:20240223T002338Z
DTSTART;TZID=America/Chicago:20240313T150000
DTEND;TZID=America/Chicago:20240313T160000
SUMMARY: OFMD New Hire Experience: Part 1
X-ALT-DESC;FMTTYPE=text/html: 
CATEGORIES:Events
LOCATION:Erlanger Active Learning Room
GEO:0.000000;0.000000
ORGANIZER;CN="Erin":MAILTO:erink@wustl.edu
URL;VALUE=URI:https://facilities.med.wustl.edu/events/event/ofmd-new-hire-e
 xperience-part-1/
END:VEVENT
BEGIN:VTIMEZONE
TZID:America/Chicago
BEGIN:DAYLIGHT
TZOFFSETFROM:-0600
TZOFFSETTO:-0500
DTSTART:20240310T080000
TZNAME:CDT
END:DAYLIGHT
END:VTIMEZONE
END:VCALENDAR
