BEGIN:VCALENDAR
VERSION:2.0
PRODID:-//Operations &amp; Facilities Management Department//NONSGML Events//EN
CALSCALE:GREGORIAN
X-ORIGINAL-URL:https://facilities.med.wustl.edu/events/
X-WR-CALDESC:Operations &amp; Facilities Management Department - Events
BEGIN:VEVENT
UID:20231204T2019Z-1701721183.0614-EO-60215-1@172.23.128.18
STATUS:CONFIRMED
DTSTAMP:20260420T204452Z
CREATED:20231204T194540Z
LAST-MODIFIED:20231204T195433Z
DTSTART;TZID=America/Chicago:20231220T150000
DTEND;TZID=America/Chicago:20231220T160000
SUMMARY: OFMD New Hire Experience: Part 3
X-ALT-DESC;FMTTYPE=text/html: 
CATEGORIES:Events
LOCATION:Erlanger Active Learning Room
GEO:0.000000;0.000000
ORGANIZER;CN="Erin":MAILTO:erink@wustl.edu
URL;VALUE=URI:https://facilities.med.wustl.edu/events/event/ofmd-new-hire-e
 xperience/
END:VEVENT
BEGIN:VTIMEZONE
TZID:America/Chicago
BEGIN:STANDARD
TZOFFSETFROM:-0500
TZOFFSETTO:-0600
DTSTART:20231105T070000
TZNAME:CST
END:STANDARD
END:VTIMEZONE
END:VCALENDAR
