BEGIN:VCALENDAR
VERSION:2.0
PRODID:-//Operations &amp; Facilities Management Department//NONSGML Events//EN
CALSCALE:GREGORIAN
X-ORIGINAL-URL:https://facilities.med.wustl.edu/events/
X-WR-CALDESC:Operations &amp; Facilities Management Department - Events
BEGIN:VEVENT
UID:20240223T0033Z-1708648417.9784-EO-61535-1@172.23.128.18
STATUS:CONFIRMED
DTSTAMP:20260421T030516Z
CREATED:20240223T001909Z
LAST-MODIFIED:20240223T002001Z
DTSTART;TZID=America/Chicago:20240227T144500
DTEND;TZID=America/Chicago:20240227T160000
SUMMARY: OFMD Staff Picture
X-ALT-DESC;FMTTYPE=text/html: 
CATEGORIES:Events
LOCATION:Couch Lawn
GEO:0.000000;0.000000
ORGANIZER;CN="Erin":MAILTO:erink@wustl.edu
URL;VALUE=URI:https://facilities.med.wustl.edu/events/event/ofmd-staff-pict
 ure/
END:VEVENT
BEGIN:VTIMEZONE
TZID:America/Chicago
BEGIN:STANDARD
TZOFFSETFROM:-0500
TZOFFSETTO:-0600
DTSTART:20231105T070000
TZNAME:CST
END:STANDARD
END:VTIMEZONE
END:VCALENDAR
