BEGIN:VCALENDAR
VERSION:2.0
PRODID:-//Operations &amp; Facilities Management Department//NONSGML Events//EN
CALSCALE:GREGORIAN
X-ORIGINAL-URL:https://facilities.med.wustl.edu/events/
X-WR-CALDESC:Operations &amp; Facilities Management Department - Events
BEGIN:VEVENT
UID:20191218T2236Z-1576708595.2836-EO-26647-1@172.23.128.19
STATUS:CONFIRMED
DTSTAMP:20260422T130842Z
CREATED:20191218T222538Z
LAST-MODIFIED:20191218T222538Z
DTSTART;TZID=America/Chicago:20191120T080000
DTEND;TZID=America/Chicago:20191230T163000
SUMMARY: Renard Hospital – Elevator Service Interruption
DESCRIPTION: Elevator No 22 will be out of service until December the 30th 
 at 4:30 PM to repair the elevator electric motor that needs to be rewound. 
 We thank you for your patience and understanding at this time.
X-ALT-DESC;FMTTYPE=text/html: <p>Elevator No 22 will be out of service unti
 l December the 30th at 4:30 PM to repair the elevator electric motor that n
 eeds to be rewound.</p><p>We thank you for your patience and understanding 
 at this time.</p>
CATEGORIES:Limited Notice Interruption
ORGANIZER;CN="Michelle":MAILTO:lewismichelle@wustl.edu
URL;VALUE=URI:https://facilities.med.wustl.edu/events/event/renard-hospital
 -elevator-service-interruption-5/
END:VEVENT
BEGIN:VTIMEZONE
TZID:America/Chicago
BEGIN:STANDARD
TZOFFSETFROM:-0500
TZOFFSETTO:-0600
DTSTART:20191103T070000
TZNAME:CST
END:STANDARD
END:VTIMEZONE
END:VCALENDAR
