BEGIN:VCALENDAR
VERSION:2.0
PRODID:-//Operations &amp; Facilities Management Department//NONSGML Events//EN
CALSCALE:GREGORIAN
X-ORIGINAL-URL:https://facilities.med.wustl.edu/events/
X-WR-CALDESC:Operations &amp; Facilities Management Department - Events
BEGIN:VEVENT
UID:20210205T1800Z-1612548013.6704-EO-31918-1@172.23.128.18
STATUS:CONFIRMED
DTSTAMP:20260422T215234Z
CREATED:20210205T175835Z
LAST-MODIFIED:20210205T175835Z
DTSTART;TZID=America/Chicago:20210215T060000
DTEND;TZID=America/Chicago:20210215T070000
SUMMARY: Renard Hospital – Elevator Service Interruption
DESCRIPTION: Elevators 21 and 22 will be tested on standby power on Monday 
 February 15 from 6 AM to 7 AM. While testing the elevators on emergency pow
 er\, they will not be on service. We thank you for your patience and unders
 tanding at this time.
X-ALT-DESC;FMTTYPE=text/html: <p>Elevators 21 and 22 will be tested on stan
 dby power on Monday February 15 from 6 AM to 7 AM. While testing the elevat
 ors on emergency power\, they will not be on service.</p><p>We thank you fo
 r your patience and understanding at this time.</p>
CATEGORIES:Limited Notice Interruption
ORGANIZER;CN="Michelle":MAILTO:lewismichelle@wustl.edu
URL;VALUE=URI:https://facilities.med.wustl.edu/events/event/renard-hospital
 -elevator-service-interruption-6/
END:VEVENT
BEGIN:VTIMEZONE
TZID:America/Chicago
BEGIN:STANDARD
TZOFFSETFROM:-0500
TZOFFSETTO:-0600
DTSTART:20201101T070000
TZNAME:CST
END:STANDARD
END:VTIMEZONE
END:VCALENDAR
