BEGIN:VCALENDAR
VERSION:2.0
PRODID:-//Operations &amp; Facilities Management Department//NONSGML Events//EN
CALSCALE:GREGORIAN
X-ORIGINAL-URL:https://facilities.med.wustl.edu/events/
X-WR-CALDESC:Operations &amp; Facilities Management Department - Events
BEGIN:VEVENT
UID:20191220T1424Z-1576851843.915-EO-26671-1@172.23.128.19
STATUS:CONFIRMED
DTSTAMP:20260424T133731Z
CREATED:20191220T141437Z
LAST-MODIFIED:20191220T141437Z
DTSTART;TZID=America/Chicago:20191226T040000
DTEND;TZID=America/Chicago:20191226T070000
SUMMARY: Southwest Tower – Air Handling Unit Service Interruption
DESCRIPTION: To investigate the HVAC system there will reduced air flow to 
 floors 6-8 during the above noted times. We thank you for your patience and
  understanding at this time.
X-ALT-DESC;FMTTYPE=text/html: <p>To investigate the HVAC system there will 
 reduced air flow to floors 6-8 during the above noted times.</p><p>We thank
  you for your patience and understanding at this time.</p>
CATEGORIES:Planned Service Interruption
ORGANIZER;CN="Michelle":MAILTO:lewismichelle@wustl.edu
URL;VALUE=URI:https://facilities.med.wustl.edu/events/event/southwest-tower
 -air-handling-unit-service-interruption-21/
END:VEVENT
BEGIN:VTIMEZONE
TZID:America/Chicago
BEGIN:STANDARD
TZOFFSETFROM:-0500
TZOFFSETTO:-0600
DTSTART:20191103T070000
TZNAME:CST
END:STANDARD
END:VTIMEZONE
END:VCALENDAR
