BEGIN:VCALENDAR
VERSION:2.0
PRODID:-//Operations &amp; Facilities Management Department//NONSGML Events//EN
CALSCALE:GREGORIAN
X-ORIGINAL-URL:https://facilities.med.wustl.edu/events/
X-WR-CALDESC:Operations &amp; Facilities Management Department - Events
BEGIN:VEVENT
UID:20240826T2105Z-1724706337.5293-EO-64653-1@10.24.106.144
STATUS:CONFIRMED
DTSTAMP:20260419T180634Z
CREATED:20240826T204121Z
LAST-MODIFIED:20240826T204121Z
DTSTART;TZID=America/Chicago:20240925T143000
DTEND;TZID=America/Chicago:20240926T160000
SUMMARY: Think Lead Succeed
X-ALT-DESC;FMTTYPE=text/html: 
CATEGORIES:Events
ORGANIZER;CN="Erin":MAILTO:erink@wustl.edu
URL;VALUE=URI:https://facilities.med.wustl.edu/events/event/think-lead-succ
 eed-3/
END:VEVENT
BEGIN:VTIMEZONE
TZID:America/Chicago
BEGIN:DAYLIGHT
TZOFFSETFROM:-0600
TZOFFSETTO:-0500
DTSTART:20240310T080000
TZNAME:CDT
END:DAYLIGHT
END:VTIMEZONE
END:VCALENDAR
