BEGIN:VCALENDAR
VERSION:2.0
PRODID:-//Operations &amp; Facilities Management Department//NONSGML Events//EN
CALSCALE:GREGORIAN
X-ORIGINAL-URL:https://facilities.med.wustl.edu/events/
X-WR-CALDESC:Operations &amp; Facilities Management Department - Events
BEGIN:VEVENT
UID:20200206T1122Z-1580988124.701-EO-27869-1@172.23.128.19
STATUS:CONFIRMED
DTSTAMP:20260424T005550Z
CREATED:20200206T105922Z
LAST-MODIFIED:20200206T105922Z
DTSTART;TZID=America/Chicago:20200208T040000
DTEND;TZID=America/Chicago:20200208T140000
SUMMARY: West Building – Steam Service Interruption
DESCRIPTION: Due to repairs we will be shutting off all steam during above 
 listed times. This will affect 4th floor autoclaves\, glass washer and only
  5th floor building heat. We thank you for your patience and understanding 
 at this time.
X-ALT-DESC;FMTTYPE=text/html: <p>Due to repairs we will be shutting off all
  steam during above listed times. This will affect 4th floor autoclaves\, g
 lass washer and only 5th floor building heat.</p><p>We thank you for your p
 atience and understanding at this time.</p>
CATEGORIES:Planned Service Interruption
ORGANIZER;CN="Michelle":MAILTO:lewismichelle@wustl.edu
URL;VALUE=URI:https://facilities.med.wustl.edu/events/event/west-building-s
 team-service-interruption-3/
END:VEVENT
BEGIN:VTIMEZONE
TZID:America/Chicago
BEGIN:STANDARD
TZOFFSETFROM:-0500
TZOFFSETTO:-0600
DTSTART:20191103T070000
TZNAME:CST
END:STANDARD
END:VTIMEZONE
END:VCALENDAR
