BEGIN:VCALENDAR
VERSION:2.0
PRODID:-//Operations &amp; Facilities Management Department//NONSGML Events//EN
CALSCALE:GREGORIAN
X-ORIGINAL-URL:https://facilities.med.wustl.edu/events/
X-WR-CALDESC:Operations &amp; Facilities Management Department - Events
BEGIN:VEVENT
UID:20191004T1401Z-1570197668.8708-EO-25456-1@172.23.128.19
STATUS:CONFIRMED
DTSTAMP:20260422T133833Z
CREATED:20191004T134946Z
LAST-MODIFIED:20191021T154427Z
DTSTART;TZID=America/Chicago:20191006T080000
DTEND;TZID=America/Chicago:20191025T163000
SUMMARY: Wohl Hospital – Elevator Service Interruption
DESCRIPTION: Elevator No 18 will be out of service until October the 25th a
 t 4:30 PM. The Elevator Mechanics are working on troubleshooting the failur
 e suspected to be on the controller power source.  The diagnostic tool whic
 h activates the controller will be delivered on Wednesday the 23rd. We than
 k you for your patience and understanding at […]
X-ALT-DESC;FMTTYPE=text/html: <p>Elevator No 18 will be out of service unti
 l October the 25th at 4:30 PM. The Elevator Mechanics are working on troubl
 eshooting the failure suspected to be on the controller power source.  The 
 diagnostic tool which activates the controller will be delivered on Wednesd
 ay the 23<sup>rd</sup>.</p><p>We thank you for your patience and understand
 ing at this time.</p>
CATEGORIES:Limited Notice Interruption
ORGANIZER;CN="Michelle":MAILTO:lewismichelle@wustl.edu
URL;VALUE=URI:https://facilities.med.wustl.edu/events/event/wohl-hospital-e
 levator-service-interruption-6/
END:VEVENT
BEGIN:VTIMEZONE
TZID:America/Chicago
BEGIN:DAYLIGHT
TZOFFSETFROM:-0600
TZOFFSETTO:-0500
DTSTART:20190310T080000
TZNAME:CDT
END:DAYLIGHT
END:VTIMEZONE
END:VCALENDAR
