BEGIN:VCALENDAR
VERSION:2.0
PRODID:-//Operations &amp; Facilities Management Department//NONSGML Events//EN
CALSCALE:GREGORIAN
X-ORIGINAL-URL:https://facilities.med.wustl.edu/events/
X-WR-CALDESC:Operations &amp; Facilities Management Department - Events
BEGIN:VEVENT
UID:20200220T1454Z-1582210492.2958-EO-28256-1@172.23.128.18
STATUS:CONFIRMED
DTSTAMP:20260422T215254Z
CREATED:20200220T113310Z
LAST-MODIFIED:20200220T113310Z
DTSTART;TZID=America/Chicago:20200228T060000
DTEND;TZID=America/Chicago:20200228T080000
SUMMARY: Wohl Hospital – Heating Service Interruption
DESCRIPTION: To support renovation efforts there will be reduced heating ca
 pacity to the 9th and 10th floors during the above noted times. We thank yo
 u for your patience and understanding at this time.
X-ALT-DESC;FMTTYPE=text/html: <p>To support renovation efforts there will b
 e reduced heating capacity to the 9th and 10th floors during the above note
 d times.</p><p>We thank you for your patience and understanding at this tim
 e.</p>
CATEGORIES:Planned Service Interruption
ORGANIZER;CN="Michelle":MAILTO:lewismichelle@wustl.edu
URL;VALUE=URI:https://facilities.med.wustl.edu/events/event/wohl-hospital-h
 eating-service-interruption/
END:VEVENT
BEGIN:VTIMEZONE
TZID:America/Chicago
BEGIN:STANDARD
TZOFFSETFROM:-0500
TZOFFSETTO:-0600
DTSTART:20191103T070000
TZNAME:CST
END:STANDARD
END:VTIMEZONE
END:VCALENDAR
